BEGIN:VCALENDAR
VERSION:2.0
PRODID:-//Squarespace Inc/Squarespace 6//v6//EN
BEGIN:VEVENT
UID:5d6e1bb80e4ae80001ab107c@squarespace.com
DTSTAMP:20190903T081821Z
DTSTART:20181201T210000Z
DTEND:20181202T000000Z
SUMMARY:2018 Xmas Party!
GEO:-24.868037;152.339488
LOCATION:Family Chiropractic Bundaberg\, 3 Branyan Street\, Bundaberg West\
 , QLD\, 4670\, Australia
END:VEVENT
END:VCALENDAR
