BEGIN:VCALENDAR
VERSION:2.0
PRODID:-//Squarespace Inc/Squarespace 6//v6//EN
BEGIN:VEVENT
UID:5d71a2b6cd6696000189ec2f@squarespace.com
DTSTAMP:20190909T003555Z
DTSTART:20191130T220000Z
DTEND:20191201T010000Z
SUMMARY:2019 Christmas Party
GEO:-24.868037;152.339488
LOCATION:Family Chiropractic Bundaberg\, 3 Branyan Street\, Bundaberg West\
 , QLD\, 4670\, Australia
END:VEVENT
END:VCALENDAR
