BEGIN:VCALENDAR
VERSION:2.0
PRODID:-//Squarespace Inc/Squarespace 6//v6//EN
BEGIN:VEVENT
UID:5d6e0a4b0e4ae80001aaa682@squarespace.com
DTSTAMP:20190917T030632Z
DTSTART:20190705T083000Z
DTEND:20190705T100000Z
SUMMARY:Art Exhibition 2019 – Opening Night
GEO:-24.868037;152.339488
LOCATION:Family Chiropractic Bundaberg\, 3 Branyan Street\, Bundaberg West\
 , QLD\, 4670\, Australia
END:VEVENT
END:VCALENDAR
