BEGIN:VCALENDAR
VERSION:2.0
PRODID:-//Squarespace Inc/Squarespace 6//v6//EN
BEGIN:VEVENT
UID:5d90762a63f92e55d6323b62@squarespace.com
DTSTAMP:20191013T231011Z
DTSTART:20191018T000000Z
DTEND:20191018T013000Z
SUMMARY:Baby Massage Class - Bargara
GEO:-24.831231;152.459221
LOCATION:Bargara\, Bargara\, Australia
END:VEVENT
END:VCALENDAR
