BEGIN:VCALENDAR
VERSION:2.0
PRODID:-//Squarespace Inc/Squarespace 6//v6//EN
BEGIN:VEVENT
UID:5d90701400b8d663be0e88b5@squarespace.com
DTSTAMP:20190929T093447Z
DTSTART:20191010T000000Z
DTEND:20191010T013000Z
SUMMARY:Baby Massage Class - Bundaberg
GEO:-24.87401;152.318382
LOCATION:Millbank\, Australia
END:VEVENT
END:VCALENDAR
