BEGIN:VCALENDAR
VERSION:2.0
PRODID:-//Squarespace Inc/Squarespace 6//v6//EN
BEGIN:VEVENT
UID:5d6e1a957c793f0001d82cd6@squarespace.com
DTSTAMP:20190917T030147Z
DTSTART:20190116T220000Z
DTEND:20190117T000000Z
SUMMARY:BackPack Fitting &amp\; Safe Device Usage
GEO:-24.868037;152.339488
LOCATION:Family Chiropractic Bundaberg\, 3 Branyan Street\, Bundaberg West\
 , QLD\, 4670\, Australia
END:VEVENT
END:VCALENDAR
