BEGIN:VCALENDAR
VERSION:2.0
PRODID:-//Squarespace Inc/Squarespace 6//v6//EN
BEGIN:VEVENT
UID:5d6e125c666cc1000139217f@squarespace.com
DTSTAMP:20191223T082408Z
DTSTART:20190227T073000Z
DTEND:20190227T090000Z
SUMMARY:Change Your Thoughts to Improve Your Health – FREE CLASS!
GEO:-24.868037;152.339488
LOCATION:Family Chiropractic Bundaberg\, 3 Branyan Street\, Bundaberg West\
 , QLD\, 4670\, Australia
END:VEVENT
END:VCALENDAR
