BEGIN:VCALENDAR
VERSION:2.0
PRODID:-//Squarespace Inc/Squarespace 6//v6//EN
BEGIN:VEVENT
UID:5d6e1d22e543ab000108fa6f@squarespace.com
DTSTAMP:20190917T030717Z
DTSTART:20181103T023000Z
DTEND:20181103T050000Z
SUMMARY:Eat for Life $35 XMAS Cooking Experience
GEO:-24.868037;152.339488
LOCATION:Family Chiropractice Bundaberg\, 3 Branyan Street\, Bundaberg West
 \, QLD\, 4670\, Australia
END:VEVENT
END:VCALENDAR
