BEGIN:VCALENDAR
VERSION:2.0
PRODID:-//Squarespace Inc/Squarespace 6//v6//EN
BEGIN:VEVENT
UID:5d6e0b8b279f0d0001287f92@squarespace.com
DTSTAMP:20191106T000825Z
DTSTART:20191120T083000Z
DTEND:20191120T100000Z
SUMMARY:Eat for life - Nutrition Class
GEO:-24.868037;152.339488
LOCATION:Family Chiropractic Bundaberg\, 3 Branyan Street\, Bundaberg West\
 , QLD\, 4670\, Australia
END:VEVENT
END:VCALENDAR
