BEGIN:VCALENDAR
VERSION:2.0
PRODID:-//Squarespace Inc/Squarespace 6//v6//EN
BEGIN:VEVENT
UID:5d885e18554f1124994be88b@squarespace.com
DTSTAMP:20190929T084924Z
DTSTART:20191015T203000Z
DTEND:20191015T210000Z
SUMMARY:Get Your Spine Active!
GEO:-24.868037;152.339488
LOCATION:Family Chiropractic Bundaberg\, 3 Branyan St\, BUNDABERG WEST\, Au
 stralia
END:VEVENT
END:VCALENDAR
