BEGIN:VCALENDAR
VERSION:2.0
PRODID:-//Squarespace Inc/Squarespace 6//v6//EN
BEGIN:VEVENT
UID:5d6deca7279f0d000127aab2@squarespace.com
DTSTAMP:20190917T030121Z
DTSTART:20190403T070000Z
DTEND:20190403T090000Z
SUMMARY:Kids and Oils
GEO:-24.868037;152.339488
LOCATION:Family Chiropractic Bundaberg\, 3 Branyan Street\, Bundaberg West\
 , QLD\, 4670\, Australia
END:VEVENT
END:VCALENDAR
