BEGIN:VCALENDAR
VERSION:2.0
PRODID:-//Squarespace Inc/Squarespace 6//v6//EN
BEGIN:VEVENT
UID:5d6e1e62f0b2850001104199@squarespace.com
DTSTAMP:20190917T030113Z
DTSTART:20181010T073000Z
DTEND:20181010T090000Z
SUMMARY:Move for Life - Posture &amp\; Ergonomics FREE Class
GEO:-24.868037;152.339488
LOCATION:Family Chiropractic Bundaberg\, 3 Branyan Street\, Bundaberg West\
 , QLD\, 4670\, Australia
END:VEVENT
END:VCALENDAR
