BEGIN:VCALENDAR
VERSION:2.0
PRODID:-//Squarespace Inc/Squarespace 6//v6//EN
BEGIN:VEVENT
UID:5d6e0c7f98811e00019a863b@squarespace.com
DTSTAMP:20190917T030430Z
DTSTART:20190529T083000Z
DTEND:20190529T100000Z
SUMMARY:Posture and Core Strength – Free Class
GEO:-24.868037;152.339488
LOCATION:Family Chiropractic Bundaberg\, 3 Branyan Street\, Bundaberg West\
 , QLD\, 4670\, Australia
END:VEVENT
END:VCALENDAR
