BEGIN:VCALENDAR
VERSION:2.0
PRODID:-//Squarespace Inc/Squarespace 6//v6//EN
BEGIN:VEVENT
UID:5d6e09bd0e4ae80001aaa243@squarespace.com
DTSTAMP:20190903T081250Z
DTSTART:20190828T083000Z
DTEND:20190828T100000Z
SUMMARY:Sleep Solutions – Free Class
END:VEVENT
END:VCALENDAR
