BEGIN:VCALENDAR
VERSION:2.0
PRODID:-//Squarespace Inc/Squarespace 6//v6//EN
BEGIN:VEVENT
UID:5d6e06a5e543ab0001087b9a@squarespace.com
DTSTAMP:20190903T081720Z
DTSTART:20190403T070000Z
DTEND:20190403T090000Z
SUMMARY:Weighed Down
GEO:-24.868037;152.339488
LOCATION:Family Chiropractic Bundaberg\, 3 Branyan Street\, Bundaberg West\
 , QLD\, 4670\, Australia
END:VEVENT
END:VCALENDAR
